BEGIN:VCALENDAR
VERSION:2.0
PRODID:-//ChurchDev//Events//EN
CALSCALE:GREGORIAN
METHOD:PUBLISH
BEGIN:VEVENT
UID:12062-20260419@www.ccamherst.org
SUMMARY:Racial Justice Team Meeting
DTSTART:20260419T153000Z
DTEND:20260419T163000Z
DESCRIPTION:The Racial Justice Team at CCA is dedicated to learning about the impact of racism on God’s world and our own hearts and minds\, and taking action to bring about justice and the kin-dom of God in our community. Through reading\, discussion\, and service\, CCA’s Racial Justice Team seeks to live more fully into God’s call to love our neighbor as ourselves.\\nThe Racial Justice Team meets every second Sunday of the month at 11:30am\, in the Parlor on the 2nd floor. All who seek to learn more ar...\\n\\nhttps://www.ccamherst.org/events/racial-justice-team-meeting-2/
LOCATION:11 Church Street Amherst\, NH 03031
URL:https://www.ccamherst.org/events/racial-justice-team-meeting-2/
DTSTAMP:20260419T204059Z
END:VEVENT
END:VCALENDAR
