BEGIN:VCALENDAR
VERSION:2.0
PRODID:-//ChurchDev//Events//EN
CALSCALE:GREGORIAN
METHOD:PUBLISH
BEGIN:VEVENT
UID:12060-20260419@www.ccamherst.org
SUMMARY:Faith Promise Sunday
DTSTART;VALUE=DATE:20260419
DTEND;VALUE=DATE:20260420
DESCRIPTION:This year’s Stewardship pledge campaign is ongoing. A huge THANK YOU if you have already made your pledge for the ‘26-‘27 church year. We are truly grateful for your on-going support. If you have not yet pledged\, we are asking you to prayerfully consider making your pledge to the church.\\nPledging is easy and only takes a moment:\\n\\nContact Andrea Cyr in the church office by email or telephone.\\nUse the Stewardship Pledge Form &#8211\; this is only for your pledge &#8211\; if you choose\, ...\\n\\nhttps://www.ccamherst.org/events/faith-promise-sunday-4/
LOCATION:11 Church Street Amherst\, NH 03031
URL:https://www.ccamherst.org/events/faith-promise-sunday-4/
DTSTAMP:20260419T221620Z
END:VEVENT
END:VCALENDAR
