BEGIN:VCALENDAR
VERSION:2.0
PRODID:-//ChurchDev//Events//EN
CALSCALE:GREGORIAN
METHOD:PUBLISH
BEGIN:VEVENT
UID:12057-20260419@www.ccamherst.org
SUMMARY:Junior Youth Group Meeting (Grades 5-7)
DTSTART:20260419T150000Z
DTEND:20260419T160000Z
DESCRIPTION:https://www.ccamherst.org/events/junior-youth-group-meeting-grades-5-7-4/
LOCATION:11 Church Street Amherst\, NH 03031
URL:https://www.ccamherst.org/events/junior-youth-group-meeting-grades-5-7-4/
DTSTAMP:20260419T205548Z
END:VEVENT
END:VCALENDAR
