BEGIN:VCALENDAR
VERSION:2.0
PRODID:-//ChurchDev//Events//EN
CALSCALE:GREGORIAN
METHOD:PUBLISH
BEGIN:VEVENT
UID:12013-20260419@www.ccamherst.org
SUMMARY:Themed Worship Service – SHINE: “Breakfast on the Beach”
DTSTART:20260419T140000Z
DTEND:20260419T150000Z
DESCRIPTION:SHINE: Living in God’s Light!\\nOn the third Sunday of every month\, our 10:00 a.m. worship celebrates our church-wide theme &#8211\; &#8220\;SHINE: Living in God’s Light&#8221\;. Each month we’ll focus on the ways we are the presence of God for one another in matters of mercy\, compassion\, and justice. Our Themed Worship services blend our traditional order of worship with special music and interactive liturgies\, readings\, and activities. On these Sundays\, our children participate in the beg...\\n\\nhttps://www.ccamherst.org/events/themed-worship-service-shine-breakfast-on-the-beach/
LOCATION:11 Church Street Amherst\, NH 03031
URL:https://www.ccamherst.org/events/themed-worship-service-shine-breakfast-on-the-beach/
DTSTAMP:20260419T204115Z
END:VEVENT
END:VCALENDAR
